BEGIN:VCALENDAR
VERSION:2.0
PRODID:-//Ceres Research - ECPv6.15.18//NONSGML v1.0//EN
CALSCALE:GREGORIAN
METHOD:PUBLISH
X-WR-CALNAME:Ceres Research
X-ORIGINAL-URL:https://ceresresearch.com
X-WR-CALDESC:Events for Ceres Research
REFRESH-INTERVAL;VALUE=DURATION:PT1H
X-Robots-Tag:noindex
X-PUBLISHED-TTL:PT1H
BEGIN:VTIMEZONE
TZID:Europe/London
BEGIN:DAYLIGHT
TZOFFSETFROM:+0000
TZOFFSETTO:+0100
TZNAME:BST
DTSTART:20250330T010000
END:DAYLIGHT
BEGIN:STANDARD
TZOFFSETFROM:+0100
TZOFFSETTO:+0000
TZNAME:GMT
DTSTART:20251026T010000
END:STANDARD
BEGIN:DAYLIGHT
TZOFFSETFROM:+0000
TZOFFSETTO:+0100
TZNAME:BST
DTSTART:20260329T010000
END:DAYLIGHT
BEGIN:STANDARD
TZOFFSETFROM:+0100
TZOFFSETTO:+0000
TZNAME:GMT
DTSTART:20261025T010000
END:STANDARD
BEGIN:DAYLIGHT
TZOFFSETFROM:+0000
TZOFFSETTO:+0100
TZNAME:BST
DTSTART:20270328T010000
END:DAYLIGHT
BEGIN:STANDARD
TZOFFSETFROM:+0100
TZOFFSETTO:+0000
TZNAME:GMT
DTSTART:20271031T010000
END:STANDARD
END:VTIMEZONE
BEGIN:VEVENT
DTSTART;TZID=Europe/London:20261203T080000
DTEND;TZID=Europe/London:20261203T170000
DTSTAMP:20260421T173407
CREATED:20251209T165527Z
LAST-MODIFIED:20260415T155607Z
UID:10000149-1796284800-1796317200@ceresresearch.com
SUMMARY:Ceres AgriStrategy Conference 2026
DESCRIPTION:Our quarterly Skills Webinars offer valuable insights and practical training to support your professional growth. This session focuses on the background and value of Certified Seed. \n\n\nMembership Required\n\n You must be a member to access this content. \nView Membership Levels \n\nAlready a member? Log in here
URL:https://ceresresearch.com/event/ceres-agristrategy-conference-2026/
LOCATION:Rothamstead Enterprises West Common\, Harpenden\, Hertfordshire\, AL5 2JQ
END:VEVENT
END:VCALENDAR